BEGIN:VCALENDAR
VERSION:2.0
PRODID:-//Tukios.com/
BEGIN:VEVENT
UID:eabe566e-e540-4eb1-844d-07fef680788b@www.fitzgeraldfuneralservice.com
DTSTAMP:20260421T222930Z
DTSTART:20260428T140000Z
DTEND:20260428T170000Z
SUMMARY:Visitation for Marian Elizabeth Reno
DESCRIPTION:
URL:https://www.fitzgeraldfuneralservice.com/obituaries/marian-reno
LOCATION:Fitzgerald Southwood Chapel 3612 E 91st St  Tulsa OK 74137
GEO:36.0311882;-95.9364981
END:VEVENT
END:VCALENDAR