BEGIN:VCALENDAR
VERSION:2.0
PRODID:-//Tukios.com/
BEGIN:VEVENT
UID:113eebe5-bbb3-4a9e-88a2-ff59763bbf81@www.fitzgeraldfuneralservice.com
DTSTAMP:20260421T222947Z
DTSTART:20260428T173000Z
DTEND:20260428T183000Z
SUMMARY:Graveside for Marian Elizabeth Reno
DESCRIPTION:
URL:https://www.fitzgeraldfuneralservice.com/obituaries/marian-reno
LOCATION:Calvary Cemetery-Tulsa 9101 S Harvard Ave  Tulsa OK 74137
GEO:36.0303334;-95.9350268
END:VEVENT
END:VCALENDAR